BEGIN:VCALENDAR
PRODID:-//www.vastsvenskahandelskammaren.se//NONSGML Västsvenska Handelska
 mmaren //SV
VERSION:2.0
BEGIN:VEVENT
DESCRIPTION:Västsverige i global konkurrens. Hur påverkar det globala läge
 t företagens beslut om investeringar och etableringar? Och hur upplevs Vä
 stsverige i jämförelse med andra marknader?
DTEND:20260422T114500
DTSTAMP:20260420T125408Z
DTSTART:20260422T100000
GEO:57.705023;11.978685
LOCATION:Eventet äger rum hos Västsvenska Handelskammaren\, Parkgatan 49\,
  Göteborg
SEQUENCE:0
SUMMARY:Västsverige i global konkurrens
UID:15a6fc0b-f2c2-4f64-b443-021836a0bd79
URL:https://www.vastsvenskahandelskammaren.se/kalender/vastsverige-i-globa
 l-konkurrens-22-april-2026/
END:VEVENT
END:VCALENDAR
