BEGIN:VCALENDAR
PRODID:-//www.vastsvenskahandelskammaren.se//NONSGML Västsvenska Handelska
 mmaren //SV
VERSION:2.0
BEGIN:VEVENT
DESCRIPTION:Var står partierna i näringspolitiken?. Riksdagsvalet påverkar
  ditt företags villkor. Möt toppkandidaterna och få tydliga besked om job
 ben och tillväxten.
DTEND:20260525T160000
DTSTAMP:20260425T161138Z
DTSTART:20260525T143000
GEO:58.284595;12.282888
LOCATION:Medlemsseminariet äger rum på\, Scandic Swania\, Storgatan 47-49\
 , Trollhättan
SEQUENCE:0
SUMMARY:Var står partierna i näringspolitiken?
UID:ca7c6928-bdee-41f6-8f08-97e7be7a2f1f
URL:https://www.vastsvenskahandelskammaren.se/kalender/var-star-partierna-
 i-naringspolitiken-trollhattan-25-maj-2026/
END:VEVENT
END:VCALENDAR
