BEGIN:VCALENDAR
PRODID:-//www.vastsvenskahandelskammaren.se//NONSGML Västsvenska Handelska
 mmaren //SV
VERSION:2.0
BEGIN:VEVENT
DESCRIPTION:Var står partierna i näringspolitiken?. Riksdagsvalet påverkar
  ditt företags villkor. Möt toppkandidaterna och få tydliga besked om job
 ben och tillväxten.
DTEND:20260511T160000
DTSTAMP:20260425T133145Z
DTSTART:20260511T143000
GEO:58.385695;13.833033
LOCATION:Medlemsseminariet äger rum på Västsvenska Handelskammaren\, Varnh
 emsgatan 16A\, Skövde
SEQUENCE:0
SUMMARY:Var står partierna i näringspolitiken?
UID:270afcca-eaab-4412-a3a5-a2ec5e063db8
URL:https://www.vastsvenskahandelskammaren.se/kalender/var-star-partierna-
 i-naringspolitiken-skovde-11-maj-2026/
END:VEVENT
END:VCALENDAR
