BEGIN:VCALENDAR
PRODID:-//www.vastsvenskahandelskammaren.se//NONSGML Västsvenska Handelska
 mmaren //SV
VERSION:2.0
BEGIN:VEVENT
DESCRIPTION:Var står partierna i näringspolitiken?. Riksdagsvalet påverkar
  ditt företags villkor. Möt toppkandidaterna och få tydliga besked om job
 ben och tillväxten.
DTEND:20260608T160000
DTSTAMP:20260425T161837Z
DTSTART:20260608T143000
GEO:57.705023;11.978685
LOCATION:Medlemsseminariet äger rum på Västsvenska Handelskammaren\, Parkg
 atan 49\, Göteborg
SEQUENCE:0
SUMMARY:Var står partierna i näringspolitiken?
UID:b1e66deb-5cf9-41c9-8b88-d3e89ca9f6e1
URL:https://www.vastsvenskahandelskammaren.se/kalender/var-star-partierna-
 i-naringspolitiken-goteborg-8-juni-2026/
END:VEVENT
END:VCALENDAR
