BEGIN:VCALENDAR
PRODID:-//www.vastsvenskahandelskammaren.se//NONSGML Västsvenska Handelska
 mmaren //SV
VERSION:2.0
BEGIN:VEVENT
DESCRIPTION:Var står partierna i näringspolitiken?. Riksdagsvalet påverkar
  ditt företags villkor. Möt toppkandidaterna och få tydliga besked om job
 ben och tillväxten.
DTEND:20260522T143000
DTSTAMP:20260425T132911Z
DTSTART:20260522T130000
GEO:57.720688;12.938432
LOCATION:Medlemsseminariet äger rum hos Västsvenska Handelskammaren\, Öste
 rlånggatan 40\, Borås
SEQUENCE:0
SUMMARY:Var står partierna i näringspolitiken?
UID:9ea54a61-4bca-47e8-a0bb-ffbfed2e1559
URL:https://www.vastsvenskahandelskammaren.se/kalender/var-star-partierna-
 i-naringspolitiken-boras-22-maj-2026/
END:VEVENT
END:VCALENDAR
