BEGIN:VCALENDAR
PRODID:-//www.vastsvenskahandelskammaren.se//NONSGML Västsvenska Handelska
 mmaren //SV
VERSION:2.0
BEGIN:VEVENT
DESCRIPTION:Nätverk: Styrelsearbete. Efterfrågan på ett nätverk inom Styre
 lsearbete är stor och vi söker nu efter fler personer som vill delta.
DTEND:20260909T235900
DTSTAMP:20260424T161650Z
DTSTART;VALUE=DATE:20260909
GEO:57.704947;11.976605
LOCATION:Nätverksgruppen träffas på Västsvenska Handelskammaren\, Parkgata
 n 49\, Göteborg
SEQUENCE:0
SUMMARY:Nätverk: Styrelsearbete
UID:5b02a234-96d9-44c6-9bd5-8ec8580951e3
URL:https://www.vastsvenskahandelskammaren.se/kalender/natverk-styrelsearb
 ete/
END:VEVENT
END:VCALENDAR
