BEGIN:VCALENDAR
PRODID:-//www.vastsvenskahandelskammaren.se//NONSGML Västsvenska Handelska
 mmaren //SV
VERSION:2.0
BEGIN:VEVENT
DESCRIPTION:Ledarskapsutbildning . Har du nyligen blivit chef eller är på 
 väg att ta din första chefsroll? Vår ledarskapsutbildning ger dig en stab
 il grund att stå på\, insikter om vad som förväntas av dig – och modet at
 t kliva in i rollen.
DTEND:20260910T123000
DTSTAMP:20260425T160617Z
DTSTART:20260910T083000
GEO:57.720688;12.938432
LOCATION:Kursen äger rum hos Västsvenska Handelskammaren\, Österlånggatan 
 40\, Borås
SEQUENCE:0
SUMMARY:Ledarskapsutbildning
UID:4d88a427-efdb-4406-bf6c-6460a2fc0a78
URL:https://www.vastsvenskahandelskammaren.se/kalender/ledarskapsutbildnin
 g-boras-10-september-2026/
END:VEVENT
END:VCALENDAR
