BEGIN:VCALENDAR
PRODID:-//www.vastsvenskahandelskammaren.se//NONSGML Västsvenska Handelska
 mmaren //SV
VERSION:2.0
BEGIN:VEVENT
DESCRIPTION:HR-frukost: Att leda över generationsgränserna. Arbetslivet fö
 rändras snabbt och fler generationer möts på samma arbetsplats. Det skapa
 r nya möjligheter\, men ställer också krav på ledarskapet. Hur leder du n
 är drivkrafter\, förväntningar och arbetssätt skiljer sig åt?
DTEND:20260528T100000
DTSTAMP:20260419T152815Z
DTSTART:20260528T073000
GEO:57.702613;11.972892
LOCATION:Medlemsseminariet äger rum på\, Högskolan Väst\, Gustava Melins g
 ata 2\, Trollhättan
SEQUENCE:0
SUMMARY:HR-frukost: Att leda över generationsgränserna
UID:71ea042b-f242-48d7-98a2-d9840634b577
URL:https://www.vastsvenskahandelskammaren.se/kalender/hr-frukost-att-leda
 -over-generationsgranserna-trollhattan-28-maj-2026/
END:VEVENT
END:VCALENDAR
