BEGIN:VCALENDAR
PRODID:-//www.vastsvenskahandelskammaren.se//NONSGML Västsvenska Handelska
 mmaren //SV
VERSION:2.0
BEGIN:VEVENT
DESCRIPTION:HR-frukost: Att leda över generationsgränserna. Idag förändras
  arbetslivet snabbt och fler generationer möts på samma arbetsplats. Det 
 skapar nya möjligheter\, men också ett mer komplext ledarskap. Hur leder 
 du när drivkrafter\, förväntningar och arbetssätt skiljer sig åt?
DTEND:20260603T100000
DTSTAMP:20260419T153024Z
DTSTART:20260603T073000
GEO:58.385695;13.833033
LOCATION:Medlemsseminariet äger rum på Västsvenska Handelskammaren\, Varnh
 emsgatan 16A\, Skövde
SEQUENCE:0
SUMMARY:HR-frukost: Att leda över generationsgränserna
UID:caf6b10c-ebf6-4966-a597-7a2c1c13230f
URL:https://www.vastsvenskahandelskammaren.se/kalender/hr-frukost-att-leda
 -over-generationsgranserna-skovde-3-juni-2026/
END:VEVENT
END:VCALENDAR
