BEGIN:VCALENDAR
PRODID:-//www.vastsvenskahandelskammaren.se//NONSGML Västsvenska Handelska
 mmaren //SV
VERSION:2.0
BEGIN:VEVENT
DESCRIPTION:Workshop: AI-agenter i praktiken. Under en heldag fördjupar vi
  oss i hur AI-agenter kan skapa konkret affärsvärde i din verksamhet. Du 
 får både strategisk förståelse och praktisk erfarenhet genom att själv by
 gga och testa en agent utifrån era verkliga behov. Dagen har fokus på han
 ds-on arbete med fokus på implementation i praktiken.
DTEND:20260512T160000
DTSTAMP:20260419T150800Z
DTSTART:20260512T090000
GEO:57.720688;12.938432
LOCATION:Kursen äger rum hos Västsvenska Handelskammaren\, Österlånggatan 
 40\, Borås
SEQUENCE:0
SUMMARY:Workshop: AI-agenter i praktiken
UID:47d69d78-2a06-419a-95fb-49c9a3d2be0d
URL:https://www.vastsvenskahandelskammaren.se/kalender/heldagsworkshop-ai-
 agenter-i-praktiken-boras-12-maj-2026/
END:VEVENT
END:VCALENDAR
