BEGIN:VCALENDAR
PRODID:-//www.vastsvenskahandelskammaren.se//NONSGML Västsvenska Handelska
 mmaren //SV
VERSION:2.0
BEGIN:VEVENT
DESCRIPTION:Effektivisera ditt arbete med AI-agenter. Vill du förstå hur A
 I-agenter fungerar i praktiken och samtidigt inspireras till nya\, smarta
 re sätt att arbeta med generativ AI? Denna kurs ger er möjligheten att te
 sta själva\, utforska tillämpningar i vardagen och hitta nya sätt att utv
 eckla arbetet i organisationen.
DTEND:20260526T120000
DTSTAMP:20260425T162723Z
DTSTART:20260526T083000
GEO:57.720688;12.938432
LOCATION:Kursen äger rum hos Västsvenska Handelskammaren\, Österlånggatan 
 40\, Borås
SEQUENCE:0
SUMMARY:Effektivisera ditt arbete med AI-agenter
UID:cbe26a21-b600-497c-8b44-2ae08e56289a
URL:https://www.vastsvenskahandelskammaren.se/kalender/effektivisera-ditt-
 arbete-med-ai-agenter-boras-26-maj-2026/
END:VEVENT
END:VCALENDAR
