BEGIN:VCALENDAR
PRODID:-//www.vastsvenskahandelskammaren.se//NONSGML Västsvenska Handelska
 mmaren //SV
VERSION:2.0
BEGIN:VEVENT
DESCRIPTION:Att sälja i motvind med varumärket som motor. Många kämpar för
  att nå sina mål i en pressad och konkurrensutsatt marknad. Med rätt komm
 unikation kan du stärka försäljningen och nå resultat även i motvind. Hur
  gör de som lyckas?
DTEND:20260421T093000
DTSTAMP:20260420T022823Z
DTSTART:20260421T080000
GEO:57.720688;12.938432
LOCATION:Medlemsseminariet äger rum hos Västsvenska Handelskammaren\, Öste
 rlånggatan 40\, Borås
SEQUENCE:0
SUMMARY:Att sälja i motvind med varumärket som motor
UID:05a233e3-c304-4257-8bf1-cb8430d98ac9
URL:https://www.vastsvenskahandelskammaren.se/kalender/att-salja-i-motvind
 -boras-21-april-2026/
END:VEVENT
END:VCALENDAR
