BEGIN:VCALENDAR
PRODID:-//www.vastsvenskahandelskammaren.se//NONSGML Västsvenska Handelska
 mmaren //SV
VERSION:2.0
BEGIN:VEVENT
DESCRIPTION:Årsmöte 2026: Nästa steg för näringslivet i Västsverige. Välko
 mmen till årsmötet för föreningen Västsvenska Handelskammaren med lunch o
 ch mingel. Nu sätter vi riktningen mot framtiden.
DTEND:20260422T163000
DTSTAMP:20260420T125940Z
DTSTART:20260422T120000
GEO:57.705023;11.978685
LOCATION:Årsmötet äger rum hos Västsvenska Handelskammaren\, Parkgatan 49\
 , Göteborg
SEQUENCE:0
SUMMARY:Årsmöte 2026: Nästa steg för näringslivet i Västsverige
UID:42463e80-048b-4535-88eb-676f9646408a
URL:https://www.vastsvenskahandelskammaren.se/kalender/arsmote-22-april-20
 26/
END:VEVENT
END:VCALENDAR
