BEGIN:VCALENDAR
PRODID:-//www.vastsvenskahandelskammaren.se//NONSGML Västsvenska Handelska
 mmaren //SV
VERSION:2.0
BEGIN:VEVENT
DESCRIPTION:Arbetsrätt för chefer. Att vara chef innebär att ta ansvar – ä
 ven juridiskt. Stärk ditt ledarskap och undvik fallgropar med konkreta ve
 rktyg i arbetsrätt för chefer.
DTEND:20260930T120000
DTSTAMP:20260420T143304Z
DTSTART:20260930T090000
GEO:57.704947;11.976605
LOCATION:Kursen äger rum hos Västsvenska Handelskammaren\, Parkgatan 49\, 
 Göteborg
SEQUENCE:0
SUMMARY:Arbetsrätt för chefer
UID:887365f4-5cad-43a4-a830-ad34f55bf96c
URL:https://www.vastsvenskahandelskammaren.se/kalender/arbetsratt-for-chef
 er-30-september-2026/
END:VEVENT
END:VCALENDAR
