BEGIN:VCALENDAR
PRODID:-//www.vastsvenskahandelskammaren.se//NONSGML Västsvenska Handelska
 mmaren //SV
VERSION:2.0
BEGIN:VEVENT
DESCRIPTION:AI: Nya trender och affärsnytta. Ta del av en färsk AI-spaning
  från HumanX\, världens främsta AI-konferens. Vilka möjligheter öppnar si
 g\, och vilka fallgropar bör man undvika?
DTEND:20260422T100000
DTSTAMP:20260420T125408Z
DTSTART:20260422T080000
GEO:57.705023;11.978685
LOCATION:Eventet äger rum hos Västsvenska Handelskammaren\, Parkgatan 49\,
  Göteborg
SEQUENCE:0
SUMMARY:AI: Nya trender och affärsnytta
UID:2acd9dd2-8a3c-4237-899e-67f51bc1529f
URL:https://www.vastsvenskahandelskammaren.se/kalender/ai-nya-trender-och-
 affarsnytta-22-april-2026/
END:VEVENT
END:VCALENDAR
