BEGIN:VCALENDAR
PRODID:-//www.vastsvenskahandelskammaren.se//NONSGML Västsvenska Handelska
 mmaren //SV
VERSION:2.0
BEGIN:VEVENT
DESCRIPTION:ChatGPT för dig inom HR. Är du redo att ta ert HR-arbete till 
 nästa nivå med AI? Upptäck hur verktyg som ChatGPT kan effektivisera ditt
  arbete\, stärka medarbetarengagemanget och bidra till att attrahera rätt
  talanger.
DTEND:20260508T160000
DTSTAMP:20260422T140833Z
DTSTART:20260508T090000
GEO:57.704947;11.976605
LOCATION:Kursen äger rum hos Västsvenska Handelskammaren\, Parkgatan 49\, 
 Göteborg
SEQUENCE:0
SUMMARY:ChatGPT för dig inom HR
UID:907879bc-0630-42d1-a5c2-15d73b2453c1
URL:https://www.vastsvenskahandelskammaren.se/kalender/chatgpt-for-dig-ino
 m-hr-8-maj-2026/
END:VEVENT
END:VCALENDAR
