BEGIN:VCALENDAR
PRODID:-//www.vastsvenskahandelskammaren.se//NONSGML Västsvenska Handelska
 mmaren //SV
VERSION:2.0
BEGIN:VEVENT
DESCRIPTION:15 snabba: Cybersäkerhet. Vill du ha ny kunskap snabbt? På bar
 a 15 minuter får du insikter om hur du kan möta kommande EU-krav och fatt
 a tryggare beslut om säkerhet.
DTEND:20260522T083000
DTSTAMP:20260421T153446Z
DTSTART:20260522T081500
LOCATION:Online
SEQUENCE:0
SUMMARY:15 snabba: Cybersäkerhet
UID:7f9239bb-c5df-4ed7-bd2d-bb18c595be42
URL:https://www.vastsvenskahandelskammaren.se/kalender/15-snabba-cybersake
 rhet/
END:VEVENT
END:VCALENDAR
